BEGIN:VCALENDAR
VERSION:2.0
PRODID:-//Photoclub de Guitard &quot;OUVR&#039; L&#039;OEIL&quot; - ECPv6.15.20//NONSGML v1.0//EN
CALSCALE:GREGORIAN
METHOD:PUBLISH
X-WR-CALNAME:Photoclub de Guitard &quot;OUVR&#039; L&#039;OEIL&quot;
X-ORIGINAL-URL:https://photoclub43.org
X-WR-CALDESC:Évènements pour Photoclub de Guitard &quot;OUVR&#039; L&#039;OEIL&quot;
REFRESH-INTERVAL;VALUE=DURATION:PT1H
X-Robots-Tag:noindex
X-PUBLISHED-TTL:PT1H
BEGIN:VTIMEZONE
TZID:Europe/Paris
BEGIN:DAYLIGHT
TZOFFSETFROM:+0100
TZOFFSETTO:+0200
TZNAME:CEST
DTSTART:20250330T010000
END:DAYLIGHT
BEGIN:STANDARD
TZOFFSETFROM:+0200
TZOFFSETTO:+0100
TZNAME:CET
DTSTART:20251026T010000
END:STANDARD
BEGIN:DAYLIGHT
TZOFFSETFROM:+0100
TZOFFSETTO:+0200
TZNAME:CEST
DTSTART:20260329T010000
END:DAYLIGHT
BEGIN:STANDARD
TZOFFSETFROM:+0200
TZOFFSETTO:+0100
TZNAME:CET
DTSTART:20261025T010000
END:STANDARD
BEGIN:DAYLIGHT
TZOFFSETFROM:+0100
TZOFFSETTO:+0200
TZNAME:CEST
DTSTART:20270328T010000
END:DAYLIGHT
BEGIN:STANDARD
TZOFFSETFROM:+0200
TZOFFSETTO:+0100
TZNAME:CET
DTSTART:20271031T010000
END:STANDARD
END:VTIMEZONE
BEGIN:VEVENT
DTSTART;TZID=Europe/Paris:20260428T200000
DTEND;TZID=Europe/Paris:20260428T220000
DTSTAMP:20260422T223816
CREATED:20260412T195625Z
LAST-MODIFIED:20260412T195625Z
UID:5360-1777406400-1777413600@photoclub43.org
SUMMARY:Visionnages et traitements
DESCRIPTION:Visionnages et traitements des photos réalisées la semaine précédente 
URL:https://photoclub43.org/?tribe_events=visionnages-et-traitements
END:VEVENT
BEGIN:VEVENT
DTSTART;TZID=Europe/Paris:20260429T200000
DTEND;TZID=Europe/Paris:20260429T223000
DTSTAMP:20260422T223816
CREATED:20260409T104152Z
LAST-MODIFIED:20260415T102543Z
UID:5340-1777492800-1777501800@photoclub43.org
SUMMARY:6ème session Lightroom
DESCRIPTION:– des traitements cette fois-ci par 2 bachelièr(e)s  \n– et nous commencerons à voir les méthodes de recherche de photos dans le catalogue (via les mots-clefs – collections et métadonnées)
URL:https://photoclub43.org/?tribe_events=6eme-session-lightroom
END:VEVENT
END:VCALENDAR